BEGIN:VCALENDAR
VERSION:2.0
PRODID:-//eventon.com NONSGML v1.0//EN
CALSCALE:GREGORIAN
METHOD:PUBLISH
BEGIN:VEVENT
UID:69e59e5fe5f1c
DTSTAMP:20260420T033247Z
DTSTART:20260418T210000Z
DTEND:20260418T235900Z
LOCATION:
SUMMARY:DJ Baybee
DESCRIPTION:DJ Baybee spins dance music in the Lounge! No Cover\,  21+\nhtt
 ps://www.lostdogcafe.net/events/dj-baybee/
URL:https://www.lostdogcafe.net/events/dj-baybee/
END:VEVENT
END:VCALENDAR