BEGIN:VCALENDAR
VERSION:2.0
PRODID:-//eventon.com NONSGML v1.0//EN
CALSCALE:GREGORIAN
METHOD:PUBLISH
BEGIN:VEVENT
UID:69e5a038a945c
DTSTAMP:20260420T034040Z
DTSTART:20260508T080000Z
DTEND:20260508T105900Z
LOCATION:
SUMMARY:Karaoke Night
DESCRIPTION:It&#8217;s Thursday night\,  let&#8217;s start the weekend earl
 y! Whether you&#8217;re a Broadway diva or just sing to yourself in the car
 \,  come show us whatcha got! KJ Frankie has all the best diddys to belt yo
 ur heart out\,  and we&#8217;ll be serving up fabulous cocktails\,  of cour
 se! No cover\,  21+\nhttps://www.lostdogcafe.net/events/kara/var/ri-16.l-L1
URL:https://www.lostdogcafe.net/events/kara/var/ri-16.l-L1
END:VEVENT
END:VCALENDAR