BEGIN:VCALENDAR
VERSION:2.0
PRODID:-//eventon.com NONSGML v1.0//EN
CALSCALE:GREGORIAN
METHOD:PUBLISH
BEGIN:VEVENT
UID:69e59e135eb4d
DTSTAMP:20260420T033131Z
DTSTART:20260426T020000Z
DTEND:20260426T045900Z
LOCATION:
SUMMARY:Poppin' it with DJ Sublingual
DESCRIPTION:Chill out with a cocktail and some fun bops by DJ Sublingual! N
 o cover\,  21+\nhttps://www.lostdogcafe.net/events/sublingual/
URL:https://www.lostdogcafe.net/events/sublingual/
END:VEVENT
END:VCALENDAR