BEGIN:VCALENDAR
VERSION:2.0
PRODID:-//eventon.com NONSGML v1.0//EN
CALSCALE:GREGORIAN
METHOD:PUBLISH
BEGIN:VEVENT
UID:69e73a3e39df3
DTSTAMP:20260421T085006Z
DTSTART:20260307T170000Z
DTEND:20260308T045900Z
LOCATION:
SUMMARY:Parade Day
DESCRIPTION:We love Parade Day in Binghamton!  Join us for our annual PARA
 DE DAY CELEBRATION! Sláinte!! THE FOOD: We&#8217;ll be serving up our deli
 cious Irish fare all day and night! Corned Beef &amp; Cabbage\,  Shepherd&#
 8217;s Pie\,  Gentle Shepherd&#8217;s Pie (vegan)\,  Fish &amp; Chips\,  Ir
 ish Soda Bread\,  Chocolate Stout &amp; Bailey&#8217;s Cream[..]\nhttps://w
 ww.lostdogcafe.net/events/paradeday/
URL:https://www.lostdogcafe.net/events/paradeday/
END:VEVENT
END:VCALENDAR